BEGIN:VCALENDAR
VERSION:2.0
PRODID:-//Squarespace Inc/Squarespace 6//v6//EN
BEGIN:VEVENT
UID:566331bce4b041edc75615f4@squarespace.com
DTSTAMP:20151208T023117Z
DTSTART:20151210T234500Z
DTEND:20151211T050000Z
SUMMARY:UFC Vegas
END:VEVENT
END:VCALENDAR
