BEGIN:VCALENDAR
VERSION:2.0
PRODID:-//Squarespace Inc/Squarespace 6//v6//EN
BEGIN:VEVENT
UID:566638024bf118f2873cb2e1@squarespace.com
DTSTAMP:20151208T020548Z
DTSTART:20151212T170000Z
DTEND:20151212T200000Z
SUMMARY:Anthony Joshua vs Dillan Whyte
END:VEVENT
END:VCALENDAR
