BEGIN:VCALENDAR
VERSION:2.0
PRODID:-//Squarespace Inc/Squarespace 6//v6//EN
BEGIN:VEVENT
UID:56663b33b204d5891f096981@squarespace.com
DTSTAMP:20151208T022201Z
DTSTART:20151212T124500Z
DTEND:20151212T134500Z
SUMMARY:Barclays Premier League. Gameweek 16
END:VEVENT
END:VCALENDAR
