BEGIN:VCALENDAR
VERSION:2.0
PRODID:-//Squarespace Inc/Squarespace 6//v6//EN
BEGIN:VEVENT
UID:566335dfe4b0c4c4329635f9@squarespace.com
DTSTAMP:20151205T192343Z
DTSTART:20151211T234500Z
DTEND:20151212T050000Z
SUMMARY:The Ultimate Fighter Season 22 Finale. 
END:VEVENT
END:VCALENDAR
