BEGIN:VCALENDAR
VERSION:2.0
PRODID:-//Squarespace Inc/Squarespace 6//v6//EN
BEGIN:VEVENT
UID:56663efb1c121021dd5b77ce@squarespace.com
DTSTAMP:20151208T023215Z
DTSTART:20151213T133000Z
DTEND:20151214T223000Z
SUMMARY:Barclays Premier League. Gameweek 16. 
END:VEVENT
END:VCALENDAR
