BEGIN:VCALENDAR
VERSION:2.0
PRODID:-//Squarespace Inc/Squarespace 6//v6//EN
BEGIN:VEVENT
UID:565b8c6ae4b0f60cdbbac90e@squarespace.com
DTSTAMP:20151129T234127Z
DTSTART:20160117T233000Z
DTEND:20160118T033000Z
SUMMARY:UFC Fight Night. TJ Dillashaw vs Dominick Cruz
END:VEVENT
END:VCALENDAR
