BEGIN:VCALENDAR
VERSION:2.0
PRODID:-//Squarespace Inc/Squarespace 6//v6//EN
BEGIN:VEVENT
UID:568a8d34d8af102bf3edc0dc@squarespace.com
DTSTAMP:20160104T160405Z
DTSTART:20160108T195500Z
DTEND:20160108T220000Z
SUMMARY:Exeter City vs Liverpool FC.  FA Cup 3rd Round. 
END:VEVENT
END:VCALENDAR
