BEGIN:VCALENDAR
VERSION:2.0
PRODID:-//Squarespace Inc/Squarespace 6//v6//EN
BEGIN:VEVENT
UID:56b8b7ac62cd9412421f72ce@squarespace.com
DTSTAMP:20160208T160630Z
DTSTART:20160213T124500Z
DTEND:20160214T184500Z
SUMMARY:Barclays Premier League - Week 26
END:VEVENT
END:VCALENDAR
