BEGIN:VCALENDAR
VERSION:2.0
PRODID:-//Squarespace Inc/Squarespace 6//v6//EN
BEGIN:VEVENT
UID:56b8cb91b09f9537c20b585c@squarespace.com
DTSTAMP:20160208T171650Z
DTSTART:20160228T163000Z
DTEND:20160228T183000Z
SUMMARY:The Capitol One Cup. Liverpool Vs Manchester City.
END:VEVENT
END:VCALENDAR
