BEGIN:VCALENDAR
VERSION:2.0
PRODID:-//Squarespace Inc/Squarespace 6//v6//EN
BEGIN:VEVENT
UID:56da344f04426203947fd37f@squarespace.com
DTSTAMP:20160305T015553Z
DTSTART:20160305T120000Z
DTEND:20160306T180000Z
SUMMARY:Allianz Football & Hurling Fixture's - March 5th - 6th.
END:VEVENT
END:VCALENDAR
