BEGIN:VCALENDAR
VERSION:2.0
PRODID:-//Squarespace Inc/Squarespace 6//v6//EN
BEGIN:VEVENT
UID:56da32159f7266f8a1fe76ed@squarespace.com
DTSTAMP:20160305T012245Z
DTSTART:20160305T124500Z
DTEND:20160306T190000Z
SUMMARY:Barclays Premier League - Week 28
END:VEVENT
END:VCALENDAR
